Workbook

Sheet 实习管理表
A1: 注意事项: 导入可支持识别的日期时间格式为yyyy-MM-dd HH:mm:ss/yyyyMMdd/yyyyMM 可根据输入框要求填入到指定位数，例如年月填写2022-08 导入中所有多选都需要以英文逗号“,”做分割。 字段说明： 起始学期:填写学生实习开始学期。 实习岗位:一家企业可填写多个岗位。 是否对口:根据《职业学校实习管理规定》第八条要求，实习岗位应符合专业培养目标要求，与学生所学专业对口或相近 实习安排:根据《职业学校实习管理规定》第九、十一、二十条要求，选择学校统一安排/自主联系 实习形式:校外实习/校内真实职业场景实习/虚拟仿真实习。 实习时长（小时/天）:平均每天实习时长 是否赴国（境）外实习:安排学生赴国（境）外实习的，应当事先经学校主管部门同意，按程序报省级主管部门备案，并通过国家驻外有关机构了解实习环境、实习单位和实习内容等情况，必要时可派人实地考察 是否跨省实习:根据《职业学校实习管理规定》第二十四条要求职业学校组织学生跨省实习的，须事先经学校主管部门同意，按程序报省级主管部门备案 是否签订三方协议:根据《职业学校实习管理规定》发布的三方协议示范文本，职业学校、实习单位、学生签订三方协议 校级监督咨询电话:根据《教育部等八部门关于印发<职业学校学生实习管理规定>的通知》要求，职业学校要公布监督咨询电话，畅通政策咨询与情况反映渠道。 购买保险情况（可填多项）:根据《职业学校实习管理规定》第三十五条要求，职业学校和实习单位应当根据国家有关规定，为实习学生投保实习责任保险。责任保险范围应当覆盖实习活动的全过程，包括学生实习期间遭受意外事故及由于被保险人疏忽或过失导致的学生人身伤亡等情况下，被保险人依法应当承担的赔偿责任以及相关法律费用等。 保险险种名称（全称）:如果没有购买保险，就填“无”。 保单号:如果没有购买保险，就填“无”。 保险费出资方（全称）:如果没有购买保险，就填“无”。
A2: 学号 | B2: 姓名 | C2: 专业名称 | D2: 专业代码 | E2: 学院名称 | F2: 班级名称（全称） | G2: 学制 | H2: 起始学期 | I2: 实习岗位 | J2: 是否对口 | K2: 实习安排 | L2: 实习形式 | M2: 实习时长（小时/天） | N2: 实习起止日期（年月日） | O2: 实习起止日期（年月日） | P2: 是否赴国（境）外实习 | Q2: 是否跨省实习 | R2: 是否签订三方协议 | S2: 实习企业名称 | T2: 实习地点 | U2: 实习地点 | V2: 实习指导人员 | W2: 实习指导人员 | X2: 实习指导人员 | Y2: 实习指导人员 | Z2: 支付实习学生生均报酬（元/月） | AA2: 校级监督咨询电话 | AB2: 购买保险情况（可填多项） | AC2: 购买保险情况（可填多项） | AD2: 购买保险情况（可填多项） | AE2: 填报人 | AF2: 状态
A3: 学号 | B3: 姓名 | C3: 专业名称 | D3: 专业代码 | F3: 班级名称（全称） | G3: 学制 | H3: 起始学期 | I3: 实习岗位 | J3: 是否对口 | K3: 实习安排 | L3: 实习形式 | M3: 实习时长（小时/天） | N3: 实习开始时间 | O3: 实习结束时间 | P3: 是否赴国（境）外实习 | Q3: 是否跨省实习 | R3: 是否签订三方协议 | S3: 实习企业名称 | T3: 所在省份 | U3: 所在地市 | V3: 校内指导教师 | W3: 校内指导教师 | X3: 企业专门人员 | Y3: 企业专门人员 | Z3: 支付实习学生生均报酬（元/月） | AA3: 校级监督咨询电话 | AB3: 保险险种名称（全称） | AC3: 保单号 | AD3: 保险费出资方（全称） | AE3: 填报人 | AF3: 状态
A4: 学号 | B4: 姓名 | C4: 专业名称 | D4: 专业代码 | F4: 班级名称（全称） | G4: 学制 | H4: 起始学期 | I4: 实习岗位 | J4: 是否对口 | K4: 实习安排 | L4: 实习形式 | M4: 实习时长（小时/天） | N4: 实习开始时间 | O4: 实习结束时间 | P4: 是否赴国（境）外实习 | Q4: 是否跨省实习 | R4: 是否签订三方协议 | S4: 实习企业名称 | T4: 所在省份 | U4: 所在地市 | V4: 电话 | W4: 教师姓名 | X4: 电话 | Y4: 企业人员姓名 | Z4: 支付实习学生生均报酬（元/月） | AA4: 校级监督咨询电话 | AB4: 保险险种名称（全称） | AC4: 保单号 | AD4: 保险费出资方（全称） | AE4: 填报人 | AF4: 状态
A5: 195603020108 | B5: =VLOOKUP(A5,学号下拉数据!A:F,2,0) -> 夏禹 | C5: =VLOOKUP(A5,学号下拉数据!A:F,4,0) -> 电气自动化技术 | D5: =VLOOKUP(A5,学号下拉数据!A:F,5,0) -> 460306 | E5: 电子工程学院 | F5: =VLOOKUP(A5,学号下拉数据!A:F,3,0) -> 19电气 | G5: =VLOOKUP(A5,学号下拉数据!A:F,6,0) -> 三年 | H5: 2021-2022-2学期 | I5: =VLOOKUP(A5,[1]Sheet0!$C:$J,8,0) -> 电气工程师 | P5: 否 | S5: =VLOOKUP(A5,[1]Sheet0!$C:$I,7,0) -> 顺益惟劳务有限公司 | T5: =VLOOKUP(A5,[1]Sheet0!$C:$M,11,0) -> 四川省 | U5: =VLOOKUP(A5,[1]Sheet0!$C:$N,12,0) -> 成都市 | X5: =VLOOKUP(A5,[1]Sheet0!$C:$L,10,0) -> 15729751322 | Y5: =VLOOKUP(A5,[1]Sheet0!$C:$L,9,0) -> 夏丹 | AA5: 08252914551 | AB5: 实习责任险 | AD5: 四川职业技术学院
A6: 195603020126 | B6: =VLOOKUP(A6,学号下拉数据!A:F,2,0) -> 顾国辉 | C6: =VLOOKUP(A6,学号下拉数据!A:F,4,0) -> 电气自动化技术 | D6: =VLOOKUP(A6,学号下拉数据!A:F,5,0) -> 460306 | E6: 电子工程学院 | F6: =VLOOKUP(A6,学号下拉数据!A:F,3,0) -> 19电气 | G6: =VLOOKUP(A6,学号下拉数据!A:F,6,0) -> 三年 | H6: 2021-2022-2学期 | I6: =VLOOKUP(A6,[1]Sheet0!$C:$J,8,0) -> 储备技术岗 | P6: 否 | S6: =VLOOKUP(A6,[1]Sheet0!$C:$I,7,0) -> 无锡华润华晶微电子有限公司 | T6: =VLOOKUP(A6,[1]Sheet0!$C:$M,11,0) -> 江苏省 | U6: =VLOOKUP(A6,[1]Sheet0!$C:$N,12,0) -> 无锡市 | X6: =VLOOKUP(A6,[1]Sheet0!$C:$L,10,0) -> 13961781520 | Y6: =VLOOKUP(A6,[1]Sheet0!$C:$L,9,0) -> 章琳 | AA6: 08252914551 | AB6: 实习责任险 | AD6: 四川职业技术学院
A7: 195603020106 | B7: =VLOOKUP(A7,学号下拉数据!A:F,2,0) -> 刘洪兵 | C7: =VLOOKUP(A7,学号下拉数据!A:F,4,0) -> 电气自动化技术 | D7: =VLOOKUP(A7,学号下拉数据!A:F,5,0) -> 460306 | E7: 电子工程学院 | F7: =VLOOKUP(A7,学号下拉数据!A:F,3,0) -> 19电气 | G7: =VLOOKUP(A7,学号下拉数据!A:F,6,0) -> 三年 | H7: 2021-2022-2学期 | I7: =VLOOKUP(A7,[1]Sheet0!$C:$J,8,0) -> 生产和运输设备操作人员 | P7: 否 | S7: =VLOOKUP(A7,[1]Sheet0!$C:$I,7,0) -> 四川锦洲服饰有限公司 | T7: =VLOOKUP(A7,[1]Sheet0!$C:$M,11,0) -> 四川省 | U7: =VLOOKUP(A7,[1]Sheet0!$C:$N,12,0) -> 成都市 | X7: =VLOOKUP(A7,[1]Sheet0!$C:$L,10,0) -> 15982525205 | Y7: =VLOOKUP(A7,[1]Sheet0!$C:$L,9,0) -> 杜胜 | AA7: 08252914551 | AB7: 实习责任险 | AD7: 四川职业技术学院
A8: 195603020127 | B8: =VLOOKUP(A8,学号下拉数据!A:F,2,0) -> 熊圣 | C8: =VLOOKUP(A8,学号下拉数据!A:F,4,0) -> 电气自动化技术 | D8: =VLOOKUP(A8,学号下拉数据!A:F,5,0) -> 460306 | E8: 电子工程学院 | F8: =VLOOKUP(A8,学号下拉数据!A:F,3,0) -> 19电气 | G8: =VLOOKUP(A8,学号下拉数据!A:F,6,0) -> 三年 | H8: 2021-2022-2学期 | I8: =VLOOKUP(A8,[1]Sheet0!$C:$J,8,0) -> 生产和运输设备操作人员 | P8: 否 | S8: =VLOOKUP(A8,[1]Sheet0!$C:$I,7,0) -> 四川锦洲服饰有限公司 | T8: =VLOOKUP(A8,[1]Sheet0!$C:$M,11,0) -> 四川省 | U8: =VLOOKUP(A8,[1]Sheet0!$C:$N,12,0) -> 成都市 | X8: =VLOOKUP(A8,[1]Sheet0!$C:$L,10,0) -> 15982525205 | Y8: =VLOOKUP(A8,[1]Sheet0!$C:$L,9,0) -> 杜胜 | AA8: 08252914551 | AB8: 实习责任险 | AD8: 四川职业技术学院
A9: 195603020102 | B9: =VLOOKUP(A9,学号下拉数据!A:F,2,0) -> 李浩 | C9: =VLOOKUP(A9,学号下拉数据!A:F,4,0) -> 电气自动化技术 | D9: =VLOOKUP(A9,学号下拉数据!A:F,5,0) -> 460306 | E9: 电子工程学院 | F9: =VLOOKUP(A9,学号下拉数据!A:F,3,0) -> 19电气 | G9: =VLOOKUP(A9,学号下拉数据!A:F,6,0) -> 三年 | H9: 2021-2022-2学期 | I9: =VLOOKUP(A9,[1]Sheet0!$C:$J,8,0) -> 动力运维岗 | P9: 否 | S9: =VLOOKUP(A9,[1]Sheet0!$C:$I,7,0) -> 成都京东方光电科技有限公司 | T9: =VLOOKUP(A9,[1]Sheet0!$C:$M,11,0) -> 四川省 | U9: =VLOOKUP(A9,[1]Sheet0!$C:$N,12,0) -> 成都市 | X9: =VLOOKUP(A9,[1]Sheet0!$C:$L,10,0) -> 18782719753 | Y9: =VLOOKUP(A9,[1]Sheet0!$C:$L,9,0) -> 李浩 | AA9: 08252914551 | AB9: 实习责任险 | AD9: 四川职业技术学院
A10: 195603020112 | B10: =VLOOKUP(A10,学号下拉数据!A:F,2,0) -> 刘丝雨 | C10: =VLOOKUP(A10,学号下拉数据!A:F,4,0) -> 电气自动化技术 | D10: =VLOOKUP(A10,学号下拉数据!A:F,5,0) -> 460306 | E10: 电子工程学院 | F10: =VLOOKUP(A10,学号下拉数据!A:F,3,0) -> 19电气 | G10: =VLOOKUP(A10,学号下拉数据!A:F,6,0) -> 三年 | H10: 2021-2022-2学期 | I10: =VLOOKUP(A10,[1]Sheet0!$C:$J,8,0) -> 技术工人岗 | P10: 否 | S10: =VLOOKUP(A10,[1]Sheet0!$C:$I,7,0) -> 京东方科技集团股份有限公司 | T10: =VLOOKUP(A10,[1]Sheet0!$C:$M,11,0) -> 四川省 | U10: =VLOOKUP(A10,[1]Sheet0!$C:$N,12,0) -> 成都市 | X10: =VLOOKUP(A10,[1]Sheet0!$C:$L,10,0) -> 15520459284 | Y10: =VLOOKUP(A10,[1]Sheet0!$C:$L,9,0) -> 刘丝雨 | AA10: 08252914551 | AB10: 实习责任险 | AD10: 四川职业技术学院
A11: 195603020104 | B11: =VLOOKUP(A11,学号下拉数据!A:F,2,0) -> 余飞 | C11: =VLOOKUP(A11,学号下拉数据!A:F,4,0) -> 电气自动化技术 | D11: =VLOOKUP(A11,学号下拉数据!A:F,5,0) -> 460306 | E11: 电子工程学院 | F11: =VLOOKUP(A11,学号下拉数据!A:F,3,0) -> 19电气 | G11: =VLOOKUP(A11,学号下拉数据!A:F,6,0) -> 三年 | H11: 2021-2022-2学期 | I11: =VLOOKUP(A11,[1]Sheet0!$C:$J,8,0) -> 技术员 | P11: 否 | S11: =VLOOKUP(A11,[1]Sheet0!$C:$I,7,0) -> 上海珺智电子有限公司 | T11: =VLOOKUP(A11,[1]Sheet0!$C:$M,11,0) -> 上海市 | U11: =VLOOKUP(A11,[1]Sheet0!$C:$N,12,0) -> 上海市 | X11: =VLOOKUP(A11,[1]Sheet0!$C:$L,10,0) -> 18019469333 | Y11: =VLOOKUP(A11,[1]Sheet0!$C:$L,9,0) -> 丁铖君 | AA11: 08252914551 | AB11: 实习责任险 | AD11: 四川职业技术学院
A12: 195603020137 | B12: =VLOOKUP(A12,学号下拉数据!A:F,2,0) -> 王潘 | C12: =VLOOKUP(A12,学号下拉数据!A:F,4,0) -> 电气自动化技术 | D12: =VLOOKUP(A12,学号下拉数据!A:F,5,0) -> 460306 | E12: 电子工程学院 | F12: =VLOOKUP(A12,学号下拉数据!A:F,3,0) -> 19电气 | G12: =VLOOKUP(A12,学号下拉数据!A:F,6,0) -> 三年 | H12: 2021-2022-2学期 | I12: =VLOOKUP(A12,[1]Sheet0!$C:$J,8,0) -> 测试实习生 | P12: 否 | S12: =VLOOKUP(A12,[1]Sheet0!$C:$I,7,0) -> 上海珺智电子有限公司 | T12: =VLOOKUP(A12,[1]Sheet0!$C:$M,11,0) -> 上海市 | U12: =VLOOKUP(A12,[1]Sheet0!$C:$N,12,0) -> 上海市 | X12: =VLOOKUP(A12,[1]Sheet0!$C:$L,10,0) -> 18019469333 | Y12: =VLOOKUP(A12,[1]Sheet0!$C:$L,9,0) -> 丁铖君 | AA12: 08252914551 | AB12: 实习责任险 | AD12: 四川职业技术学院
A13: 195603020130 | B13: =VLOOKUP(A13,学号下拉数据!A:F,2,0) -> 丁千禧 | C13: =VLOOKUP(A13,学号下拉数据!A:F,4,0) -> 电气自动化技术 | D13: =VLOOKUP(A13,学号下拉数据!A:F,5,0) -> 460306 | E13: 电子工程学院 | F13: =VLOOKUP(A13,学号下拉数据!A:F,3,0) -> 19电气 | G13: =VLOOKUP(A13,学号下拉数据!A:F,6,0) -> 三年 | H13: 2021-2022-2学期 | I13: =VLOOKUP(A13,[1]Sheet0!$C:$J,8,0) -> 运营岗 | P13: 否 | S13: =VLOOKUP(A13,[1]Sheet0!$C:$I,7,0) -> 京东方科技集团有限公司 | T13: =VLOOKUP(A13,[1]Sheet0!$C:$M,11,0) -> 四川省 | U13: =VLOOKUP(A13,[1]Sheet0!$C:$N,12,0) -> 成都市 | X13: =VLOOKUP(A13,[1]Sheet0!$C:$L,10,0) -> 13629075103 | Y13: =VLOOKUP(A13,[1]Sheet0!$C:$L,9,0) -> 丁千禧 | AA13: 08252914551 | AB13: 实习责任险 | AD13: 四川职业技术学院
A14: 195603020131 | B14: =VLOOKUP(A14,学号下拉数据!A:F,2,0) -> 吴源源 | C14: =VLOOKUP(A14,学号下拉数据!A:F,4,0) -> 电气自动化技术 | D14: =VLOOKUP(A14,学号下拉数据!A:F,5,0) -> 460306 | E14: 电子工程学院 | F14: =VLOOKUP(A14,学号下拉数据!A:F,3,0) -> 19电气 | G14: =VLOOKUP(A14,学号下拉数据!A:F,6,0) -> 三年 | H14: 2021-2022-2学期 | I14: =VLOOKUP(A14,[1]Sheet0!$C:$J,8,0) -> 电梯维保 | P14: 否 | S14: =VLOOKUP(A14,[1]Sheet0!$C:$I,7,0) -> 四川瀛洲电梯有限公司 | T14: =VLOOKUP(A14,[1]Sheet0!$C:$M,11,0) -> 四川省 | U14: =VLOOKUP(A14,[1]Sheet0!$C:$N,12,0) -> 成都市 | X14: =VLOOKUP(A14,[1]Sheet0!$C:$L,10,0) -> 18382337694 | Y14: =VLOOKUP(A14,[1]Sheet0!$C:$L,9,0) -> 陈洪 | AA14: 08252914551 | AB14: 实习责任险 | AD14: 四川职业技术学院
A15: 195603020122 | B15: =VLOOKUP(A15,学号下拉数据!A:F,2,0) -> 王娟 | C15: =VLOOKUP(A15,学号下拉数据!A:F,4,0) -> 电气自动化技术 | D15: =VLOOKUP(A15,学号下拉数据!A:F,5,0) -> 460306 | E15: 电子工程学院 | F15: =VLOOKUP(A15,学号下拉数据!A:F,3,0) -> 19电气 | G15: =VLOOKUP(A15,学号下拉数据!A:F,6,0) -> 三年 | H15: 2021-2022-2学期 | I15: =VLOOKUP(A15,[1]Sheet0!$C:$J,8,0) -> 电气自动化 | P15: 否 | S15: =VLOOKUP(A15,[1]Sheet0!$C:$I,7,0) -> 西南水泥有限公司 | T15: =VLOOKUP(A15,[1]Sheet0!$C:$M,11,0) -> 四川省 | U15: =VLOOKUP(A15,[1]Sheet0!$C:$N,12,0) -> 广元市 | X15: =VLOOKUP(A15,[1]Sheet0!$C:$L,10,0) -> 15643187612 | Y15: =VLOOKUP(A15,[1]Sheet0!$C:$L,9,0) -> 刘妍然 | AA15: 08252914551 | AB15: 实习责任险 | AD15: 四川职业技术学院
A16: 195603020119 | B16: =VLOOKUP(A16,学号下拉数据!A:F,2,0) -> 袁滢萍 | C16: =VLOOKUP(A16,学号下拉数据!A:F,4,0) -> 电气自动化技术 | D16: =VLOOKUP(A16,学号下拉数据!A:F,5,0) -> 460306 | E16: 电子工程学院 | F16: =VLOOKUP(A16,学号下拉数据!A:F,3,0) -> 19电气 | G16: =VLOOKUP(A16,学号下拉数据!A:F,6,0) -> 三年 | H16: 2021-2022-2学期 | I16: =VLOOKUP(A16,[1]Sheet0!$C:$J,8,0) -> 技术员 | P16: 否 | S16: =VLOOKUP(A16,[1]Sheet0!$C:$I,7,0) -> 巴中市蜀天勘测设计咨询有限公司 | T16: =VLOOKUP(A16,[1]Sheet0!$C:$M,11,0) -> 四川省 | U16: =VLOOKUP(A16,[1]Sheet0!$C:$N,12,0) -> 巴中市 | X16: =VLOOKUP(A16,[1]Sheet0!$C:$L,10,0) -> 13980290105 | Y16: =VLOOKUP(A16,[1]Sheet0!$C:$L,9,0) -> 袁滢萍 | AA16: 08252914551 | AB16: 实习责任险 | AD16: 四川职业技术学院
... A38: 195603020118 | B38: =VLOOKUP(A38,学号下拉数据!A:F,2,0) -> 杨添一 | C38: =VLOOKUP(A38,学号下拉数据!A:F,4,0) -> 电气自动化技术 | D38: =VLOOKUP(A38,学号下拉数据!A:F,5,0) -> 460306 | E38: 电子工程学院 | F38: =VLOOKUP(A38,学号下拉数据!A:F,3,0) -> 19电气 | G38: =VLOOKUP(A38,学号下拉数据!A:F,6,0) -> 三年 | H38: 2021-2022-2学期 | I38: =VLOOKUP(A38,[1]Sheet0!$C:$J,8,0) -> 设备运维岗 | P38: 否 | S38: =VLOOKUP(A38,[1]Sheet0!$C:$I,7,0) -> 南充恒通电力有限公司营山分公司 | T38: =VLOOKUP(A38,[1]Sheet0!$C:$M,11,0) -> 四川省 | U38: =VLOOKUP(A38,[1]Sheet0!$C:$N,12,0) -> 南充市 | X38: =VLOOKUP(A38,[1]Sheet0!$C:$L,10,0) -> 181450711262 | Y38: =VLOOKUP(A38,[1]Sheet0!$C:$L,9,0) -> 蒋萍 | AA38: 08252914551 | AB38: 实习责任险 | AD38: 四川职业技术学院
A39: 195603020128 | B39: =VLOOKUP(A39,学号下拉数据!A:F,2,0) -> 吉子日色 | C39: =VLOOKUP(A39,学号下拉数据!A:F,4,0) -> 电气自动化技术 | D39: =VLOOKUP(A39,学号下拉数据!A:F,5,0) -> 460306 | E39: 电子工程学院 | F39: =VLOOKUP(A39,学号下拉数据!A:F,3,0) -> 19电气 | G39: =VLOOKUP(A39,学号下拉数据!A:F,6,0) -> 三年 | P39: 否 | S39: =VLOOKUP(A39,[3]Sheet1!$A:$K,10,0) -> #N/A | T39: =VLOOKUP(A39,[3]Sheet1!$A:$K,11,0) -> #N/A | AA39: 08252914551 | AB39: 实习责任险 | AD39: 四川职业技术学院
A40: 195603020135 | B40: =VLOOKUP(A40,学号下拉数据!A:F,2,0) -> 张森 | C40: =VLOOKUP(A40,学号下拉数据!A:F,4,0) -> 电气自动化技术 | D40: =VLOOKUP(A40,学号下拉数据!A:F,5,0) -> 460306 | E40: 电子工程学院 | F40: =VLOOKUP(A40,学号下拉数据!A:F,3,0) -> 19电气 | G40: =VLOOKUP(A40,学号下拉数据!A:F,6,0) -> 三年 | P40: 否 | S40: =VLOOKUP(A40,[3]Sheet1!$A:$K,10,0) -> #N/A | T40: =VLOOKUP(A40,[3]Sheet1!$A:$K,11,0) -> #N/A | AA40: 08252914551 | AB40: 实习责任险 | AD40: 四川职业技术学院
A41: 196101010110 | B41: =VLOOKUP(A41,学号下拉数据!A:F,2,0) -> 杨国林 | C41: =VLOOKUP(A41,学号下拉数据!A:F,4,0) -> 电子信息工程技术 | D41: =VLOOKUP(A41,学号下拉数据!A:F,5,0) -> 510101 | E41: 电子工程学院 | F41: =VLOOKUP(A41,学号下拉数据!A:F,3,0) -> 19电信1 | G41: =VLOOKUP(A41,学号下拉数据!A:F,6,0) -> 三年 | H41: 2021-2022-2学期 | I41: =VLOOKUP(A41,[1]Sheet0!$C:$J,8,0) -> 设备维修 | P41: 否 | S41: =VLOOKUP(A41,[1]Sheet0!$C:$I,7,0) -> 江苏大生集团有限公司 | T41: =VLOOKUP(A41,[1]Sheet0!$C:$M,11,0) -> 江苏省 | U41: =VLOOKUP(A41,[1]Sheet0!$C:$N,12,0) -> 南通市 | X41: =VLOOKUP(A41,[1]Sheet0!$C:$L,10,0) -> 139216087667 | Y41: =VLOOKUP(A41,[1]Sheet0!$C:$L,9,0) -> 方雯 | AA41: 08252914551 | AB41: 实习责任险 | AD41: 四川职业技术学院
A42: 196101010101 | B42: =VLOOKUP(A42,学号下拉数据!A:F,2,0) -> 袁潮 | C42: =VLOOKUP(A42,学号下拉数据!A:F,4,0) -> 电子信息工程技术 | D42: =VLOOKUP(A42,学号下拉数据!A:F,5,0) -> 510101 | E42: 电子工程学院 | F42: =VLOOKUP(A42,学号下拉数据!A:F,3,0) -> 19电信1 | G42: =VLOOKUP(A42,学号下拉数据!A:F,6,0) -> 三年 | H42: 2021-2022-2学期 | I42: =VLOOKUP(A42,[1]Sheet0!$C:$J,8,0) -> 设备维修 | P42: 否 | S42: =VLOOKUP(A42,[1]Sheet0!$C:$I,7,0) -> 江苏大生集团有限公司 | T42: =VLOOKUP(A42,[1]Sheet0!$C:$M,11,0) -> 江苏省 | U42: =VLOOKUP(A42,[1]Sheet0!$C:$N,12,0) -> 南通市 | X42: =VLOOKUP(A42,[1]Sheet0!$C:$L,10,0) -> 13921608767 | Y42: =VLOOKUP(A42,[1]Sheet0!$C:$L,9,0) -> 方雯 | AA42: 08252914551 | AB42: 实习责任险 | AD42: 四川职业技术学院
A43: 196101010109 | B43: =VLOOKUP(A43,学号下拉数据!A:F,2,0) -> 蒋鑫利 | C43: =VLOOKUP(A43,学号下拉数据!A:F,4,0) -> 电子信息工程技术 | D43: =VLOOKUP(A43,学号下拉数据!A:F,5,0) -> 510101 | E43: 电子工程学院 | F43: =VLOOKUP(A43,学号下拉数据!A:F,3,0) -> 19电信1 | G43: =VLOOKUP(A43,学号下拉数据!A:F,6,0) -> 三年 | H43: 2021-2022-2学期 | I43: =VLOOKUP(A43,[1]Sheet0!$C:$J,8,0) -> 文员 | P43: 否 | S43: =VLOOKUP(A43,[1]Sheet0!$C:$I,7,0) -> 东莞市长安琼秀五金厂 | T43: =VLOOKUP(A43,[1]Sheet0!$C:$M,11,0) -> 广东省 | U43: =VLOOKUP(A43,[1]Sheet0!$C:$N,12,0) -> 惠州市 | X43: =VLOOKUP(A43,[1]Sheet0!$C:$L,10,0) -> 13620036034 | Y43: =VLOOKUP(A43,[1]Sheet0!$C:$L,9,0) -> 易池华 | AA43: 08252914551 | AB43: 实习责任险 | AD43: 四川职业技术学院
A44: 196101010119 | B44: =VLOOKUP(A44,学号下拉数据!A:F,2,0) -> 张涵 | C44: =VLOOKUP(A44,学号下拉数据!A:F,4,0) -> 电子信息工程技术 | D44: =VLOOKUP(A44,学号下拉数据!A:F,5,0) -> 510101 | E44: 电子工程学院 | F44: =VLOOKUP(A44,学号下拉数据!A:F,3,0) -> 19电信1 | G44: =VLOOKUP(A44,学号下拉数据!A:F,6,0) -> 三年 | H44: 2021-2022-2学期 | I44: =VLOOKUP(A44,[1]Sheet0!$C:$J,8,0) -> 网站运营 | P44: 否 | S44: =VLOOKUP(A44,[1]Sheet0!$C:$I,7,0) -> 四川盈晖电子商务有限公司 | T44: =VLOOKUP(A44,[1]Sheet0!$C:$M,11,0) -> 四川省 | U44: =VLOOKUP(A44,[1]Sheet0!$C:$N,12,0) -> 宜宾市 | X44: =VLOOKUP(A44,[1]Sheet0!$C:$L,10,0) -> 18384105104 | Y44: =VLOOKUP(A44,[1]Sheet0!$C:$L,9,0) -> 周永高 | AA44: 08252914551 | AB44: 实习责任险 | AD44: 四川职业技术学院
A45: 196101010107 | B45: =VLOOKUP(A45,学号下拉数据!A:F,2,0) -> 范忠毅 | C45: =VLOOKUP(A45,学号下拉数据!A:F,4,0) -> 电子信息工程技术 | D45: =VLOOKUP(A45,学号下拉数据!A:F,5,0) -> 510101 | E45: 电子工程学院 | F45: =VLOOKUP(A45,学号下拉数据!A:F,3,0) -> 19电信1 | G45: =VLOOKUP(A45,学号下拉数据!A:F,6,0) -> 三年 | H45: 2021-2022-2学期 | I45: =VLOOKUP(A45,[1]Sheet0!$C:$J,8,0) -> 后端开发工程师 | P45: 否 | S45: =VLOOKUP(A45,[1]Sheet0!$C:$I,7,0) -> 北京法先生科技有限公司 | T45: =VLOOKUP(A45,[1]Sheet0!$C:$M,11,0) -> 北京市 | U45: =VLOOKUP(A45,[1]Sheet0!$C:$N,12,0) -> 北京市 | X45: =VLOOKUP(A45,[1]Sheet0!$C:$L,10,0) -> 13734004642 | Y45: =VLOOKUP(A45,[1]Sheet0!$C:$L,9,0) -> 邸丽蓉 | AA45: 08252914551 | AB45: 实习责任险 | AD45: 四川职业技术学院
A46: 196101010108 | B46: =VLOOKUP(A46,学号下拉数据!A:F,2,0) -> 张红 | C46: =VLOOKUP(A46,学号下拉数据!A:F,4,0) -> 电子信息工程技术 | D46: =VLOOKUP(A46,学号下拉数据!A:F,5,0) -> 510101 | E46: 电子工程学院 | F46: =VLOOKUP(A46,学号下拉数据!A:F,3,0) -> 19电信1 | G46: =VLOOKUP(A46,学号下拉数据!A:F,6,0) -> 三年 | H46: 2021-2022-2学期 | I46: =VLOOKUP(A46,[1]Sheet0!$C:$J,8,0) -> 操作工 | P46: 否 | S46: =VLOOKUP(A46,[1]Sheet0!$C:$I,7,0) -> 通富微电子股份有限公司 | T46: =VLOOKUP(A46,[1]Sheet0!$C:$M,11,0) -> 江苏省 | U46: =VLOOKUP(A46,[1]Sheet0!$C:$N,12,0) -> 南通市 | X46: =VLOOKUP(A46,[1]Sheet0!$C:$L,10,0) -> 18962911195 | Y46: =VLOOKUP(A46,[1]Sheet0!$C:$L,9,0) -> 徐津 | AA46: 08252914551 | AB46: 实习责任险 | AD46: 四川职业技术学院
A47: 196101010120 | B47: =VLOOKUP(A47,学号下拉数据!A:F,2,0) -> 刘凯 | C47: =VLOOKUP(A47,学号下拉数据!A:F,4,0) -> 电子信息工程技术 | D47: =VLOOKUP(A47,学号下拉数据!A:F,5,0) -> 510101 | E47: 电子工程学院 | F47: =VLOOKUP(A47,学号下拉数据!A:F,3,0) -> 19电信1 | G47: =VLOOKUP(A47,学号下拉数据!A:F,6,0) -> 三年 | H47: 2021-2022-2学期 | I47: =VLOOKUP(A47,[1]Sheet0!$C:$J,8,0) -> 设备维护员 | P47: 否 | S47: =VLOOKUP(A47,[1]Sheet0!$C:$I,7,0) -> 广安市前锋区倬成商贸有限公司 | T47: =VLOOKUP(A47,[1]Sheet0!$C:$M,11,0) -> 四川省 | U47: =VLOOKUP(A47,[1]Sheet0!$C:$N,12,0) -> 广安市 | X47: =VLOOKUP(A47,[1]Sheet0!$C:$L,10,0) -> 18882687777 | Y47: =VLOOKUP(A47,[1]Sheet0!$C:$L,9,0) -> 叶述林 | AA47: 08252914551 | AB47: 实习责任险 | AD47: 四川职业技术学院
A48: 196101010104 | B48: =VLOOKUP(A48,学号下拉数据!A:F,2,0) -> 陈祝懿 | C48: =VLOOKUP(A48,学号下拉数据!A:F,4,0) -> 电子信息工程技术 | D48: =VLOOKUP(A48,学号下拉数据!A:F,5,0) -> 510101 | E48: 电子工程学院 | F48: =VLOOKUP(A48,学号下拉数据!A:F,3,0) -> 19电信1 | G48: =VLOOKUP(A48,学号下拉数据!A:F,6,0) -> 三年 | H48: 2021-2022-2学期 | I48: =VLOOKUP(A48,[1]Sheet0!$C:$J,8,0) -> 设备技术人员 | P48: 否 | S48: =VLOOKUP(A48,[1]Sheet0!$C:$I,7,0) -> 犍为县信安燃气阀门有限公司 | T48: =VLOOKUP(A48,[1]Sheet0!$C:$M,11,0) -> 四川省 | U48: =VLOOKUP(A48,[1]Sheet0!$C:$N,12,0) -> 乐山市 | X48: =VLOOKUP(A48,[1]Sheet0!$C:$L,10,0) -> 18981338819 | Y48: =VLOOKUP(A48,[1]Sheet0!$C:$L,9,0) -> 祝燕萍 | AA48: 08252914551 | AB48: 实习责任险 | AD48: 四川职业技术学院
A49: 196101010121 | B49: =VLOOKUP(A49,学号下拉数据!A:F,2,0) -> 向仕安 | C49: =VLOOKUP(A49,学号下拉数据!A:F,4,0) -> 电子信息工程技术 | D49: =VLOOKUP(A49,学号下拉数据!A:F,5,0) -> 510101 | E49: 电子工程学院 | F49: =VLOOKUP(A49,学号下拉数据!A:F,3,0) -> 19电信1 | G49: =VLOOKUP(A49,学号下拉数据!A:F,6,0) -> 三年 | H49: 2021-2022-2学期 | I49: =VLOOKUP(A49,[1]Sheet0!$C:$J,8,0) -> 技术员 | P49: 否 | S49: =VLOOKUP(A49,[1]Sheet0!$C:$I,7,0) -> 四川易客邦网络科技有限公司 | T49: =VLOOKUP(A49,[1]Sheet0!$C:$M,11,0) -> 四川省 | U49: =VLOOKUP(A49,[1]Sheet0!$C:$N,12,0) -> 绵阳市 | X49: =VLOOKUP(A49,[1]Sheet0!$C:$L,10,0) -> 18823771024 | Y49: =VLOOKUP(A49,[1]Sheet0!$C:$L,9,0) -> 刘俊 | AA49: 08252914551 | AB49: 实习责任险 | AD49: 四川职业技术学院
A50: 196101010112 | B50: =VLOOKUP(A50,学号下拉数据!A:F,2,0) -> 郑长鑫 | C50: =VLOOKUP(A50,学号下拉数据!A:F,4,0) -> 电子信息工程技术 | D50: =VLOOKUP(A50,学号下拉数据!A:F,5,0) -> 510101 | E50: 电子工程学院 | F50: =VLOOKUP(A50,学号下拉数据!A:F,3,0) -> 19电信1 | G50: =VLOOKUP(A50,学号下拉数据!A:F,6,0) -> 三年 | H50: 2021-2022-2学期 | I50: =VLOOKUP(A50,[1]Sheet0!$C:$J,8,0) -> 设备维护 | P50: 否 | S50: =VLOOKUP(A50,[1]Sheet0!$C:$I,7,0) -> 江苏大生集团有限公司 | T50: =VLOOKUP(A50,[1]Sheet0!$C:$M,11,0) -> 江苏省 | U50: =VLOOKUP(A50,[1]Sheet0!$C:$N,12,0) -> 南通市 | X50: =VLOOKUP(A50,[1]Sheet0!$C:$L,10,0) -> 13921608767 | Y50: =VLOOKUP(A50,[1]Sheet0!$C:$L,9,0) -> 方雯 | AA50: 08252914551 | AB50: 实习责任险 | AD50: 四川职业技术学院
A51: 196101010118 | B51: =VLOOKUP(A51,学号下拉数据!A:F,2,0) -> 秦宗槐 | C51: =VLOOKUP(A51,学号下拉数据!A:F,4,0) -> 电子信息工程技术 | D51: =VLOOKUP(A51,学号下拉数据!A:F,5,0) -> 510101 | E51: 电子工程学院 | F51: =VLOOKUP(A51,学号下拉数据!A:F,3,0) -> 19电信1 | G51: =VLOOKUP(A51,学号下拉数据!A:F,6,0) -> 三年 | H51: 2021-2022-2学期 | I51: =VLOOKUP(A51,[1]Sheet0!$C:$J,8,0) -> 设备维修 | P51: 否 | S51: =VLOOKUP(A51,[1]Sheet0!$C:$I,7,0) -> 江苏大生集团 | T51: =VLOOKUP(A51,[1]Sheet0!$C:$M,11,0) -> 江苏省 | U51: =VLOOKUP(A51,[1]Sheet0!$C:$N,12,0) -> 南通市 | X51: =VLOOKUP(A51,[1]Sheet0!$C:$L,10,0) -> 13921608767 | Y51: =VLOOKUP(A51,[1]Sheet0!$C:$L,9,0) -> 方雯 | AA51: 08252914551 | AB51: 实习责任险 | AD51: 四川职业技术学院
A52: 196101010127 | B52: =VLOOKUP(A52,学号下拉数据!A:F,2,0) -> 樊博宇 | C52: =VLOOKUP(A52,学号下拉数据!A:F,4,0) -> 电子信息工程技术 | D52: =VLOOKUP(A52,学号下拉数据!A:F,5,0) -> 510101 | E52: 电子工程学院 | F52: =VLOOKUP(A52,学号下拉数据!A:F,3,0) -> 19电信1 | G52: =VLOOKUP(A52,学号下拉数据!A:F,6,0) -> 三年 | H52: 2021-2022-2学期 | I52: =VLOOKUP(A52,[1]Sheet0!$C:$J,8,0) -> Bunping | P52: 否 | S52: =VLOOKUP(A52,[1]Sheet0!$C:$I,7,0) -> 绍兴中芯集成电路股份有限公司 | T52: =VLOOKUP(A52,[1]Sheet0!$C:$M,11,0) -> 浙江省 | U52: =VLOOKUP(A52,[1]Sheet0!$C:$N,12,0) -> 绍兴市 | X52: =VLOOKUP(A52,[1]Sheet0!$C:$L,10,0) -> 18990762142 | Y52: =VLOOKUP(A52,[1]Sheet0!$C:$L,9,0) -> 人力资源部 | AA52: 08252914551 | AB52: 实习责任险 | AD52: 四川职业技术学院
... A67: 196101010111 | B67: =VLOOKUP(A67,学号下拉数据!A:F,2,0) -> 郭泰龙 | C67: =VLOOKUP(A67,学号下拉数据!A:F,4,0) -> 电子信息工程技术 | D67: =VLOOKUP(A67,学号下拉数据!A:F,5,0) -> 510101 | E67: 电子工程学院 | F67: =VLOOKUP(A67,学号下拉数据!A:F,3,0) -> 19电信1 | G67: =VLOOKUP(A67,学号下拉数据!A:F,6,0) -> 三年 | H67: 2021-2022-2学期 | I67: =VLOOKUP(A67,[1]Sheet0!$C:$J,8,0) -> smt备料组 | P67: 否 | S67: =VLOOKUP(A67,[1]Sheet0!$C:$I,7,0) -> 重庆海康威视 | T67: =VLOOKUP(A67,[1]Sheet0!$C:$M,11,0) -> 重庆市 | U67: =VLOOKUP(A67,[1]Sheet0!$C:$N,12,0) -> 重庆市 | X67: =VLOOKUP(A67,[1]Sheet0!$C:$L,10,0) -> 13637918621 | Y67: =VLOOKUP(A67,[1]Sheet0!$C:$L,9,0) -> 谭金凤 | AA67: 08252914551 | AB67: 实习责任险 | AD67: 四川职业技术学院
A68: 196101010122 | B68: =VLOOKUP(A68,学号下拉数据!A:F,2,0) -> 刘科辰 | C68: =VLOOKUP(A68,学号下拉数据!A:F,4,0) -> 电子信息工程技术 | D68: =VLOOKUP(A68,学号下拉数据!A:F,5,0) -> 510101 | E68: 电子工程学院 | F68: =VLOOKUP(A68,学号下拉数据!A:F,3,0) -> 19电信1 | G68: =VLOOKUP(A68,学号下拉数据!A:F,6,0) -> 三年 | P68: 否 | S68: =VLOOKUP(A68,[3]Sheet1!$A:$K,10,0) -> #N/A | T68: =VLOOKUP(A68,[3]Sheet1!$A:$K,11,0) -> #N/A | AA68: 08252914551 | AB68: 实习责任险 | AD68: 四川职业技术学院
A69: 196101010126 | B69: =VLOOKUP(A69,学号下拉数据!A:F,2,0) -> 粟鹏飞 | C69: =VLOOKUP(A69,学号下拉数据!A:F,4,0) -> 电子信息工程技术 | D69: =VLOOKUP(A69,学号下拉数据!A:F,5,0) -> 510101 | E69: 电子工程学院 | F69: =VLOOKUP(A69,学号下拉数据!A:F,3,0) -> 19电信1 | G69: =VLOOKUP(A69,学号下拉数据!A:F,6,0) -> 三年 | P69: 否 | S69: =VLOOKUP(A69,[3]Sheet1!$A:$K,10,0) -> #N/A | T69: =VLOOKUP(A69,[3]Sheet1!$A:$K,11,0) -> #N/A | AA69: 08252914551 | AB69: 实习责任险 | AD69: 四川职业技术学院
A70: 196101010205 | B70: =VLOOKUP(A70,学号下拉数据!A:F,2,0) -> 伍友源 | C70: =VLOOKUP(A70,学号下拉数据!A:F,4,0) -> 电子信息工程技术 | D70: =VLOOKUP(A70,学号下拉数据!A:F,5,0) -> 510101 | E70: 电子工程学院 | F70: =VLOOKUP(A70,学号下拉数据!A:F,3,0) -> 19电信2 | G70: =VLOOKUP(A70,学号下拉数据!A:F,6,0) -> 三年 | H70: 2021-2022-2学期 | I70: =VLOOKUP(A70,[1]Sheet0!$C:$J,8,0) -> 设备运维岗 | P70: 否 | S70: =VLOOKUP(A70,[1]Sheet0!$C:$I,7,0) -> 成都京东方光电科技有限公司 | T70: =VLOOKUP(A70,[1]Sheet0!$C:$M,11,0) -> 四川省 | U70: =VLOOKUP(A70,[1]Sheet0!$C:$N,12,0) -> 成都市 | X70: =VLOOKUP(A70,[1]Sheet0!$C:$L,10,0) -> 028-67277613 | Y70: =VLOOKUP(A70,[1]Sheet0!$C:$L,9,0) -> 侯海旺 | AA70: 08252914551 | AB70: 实习责任险 | AD70: 四川职业技术学院
A71: 196101010227 | B71: =VLOOKUP(A71,学号下拉数据!A:F,2,0) -> 肖超 | C71: =VLOOKUP(A71,学号下拉数据!A:F,4,0) -> 电子信息工程技术 | D71: =VLOOKUP(A71,学号下拉数据!A:F,5,0) -> 510101 | E71: 电子工程学院 | F71: =VLOOKUP(A71,学号下拉数据!A:F,3,0) -> 19电信2 | G71: =VLOOKUP(A71,学号下拉数据!A:F,6,0) -> 三年 | H71: 2021-2022-2学期 | I71: =VLOOKUP(A71,[1]Sheet0!$C:$J,8,0) -> 生技 | P71: 否 | S71: =VLOOKUP(A71,[1]Sheet0!$C:$I,7,0) -> 鸿富锦精密电子(成都)有限公司 | T71: =VLOOKUP(A71,[1]Sheet0!$C:$M,11,0) -> 四川省 | U71: =VLOOKUP(A71,[1]Sheet0!$C:$N,12,0) -> 成都市 | X71: =VLOOKUP(A71,[1]Sheet0!$C:$L,10,0) -> 183 4939 0577 | Y71: =VLOOKUP(A71,[1]Sheet0!$C:$L,9,0) -> 毛成武 | AA71: 08252914551 | AB71: 实习责任险 | AD71: 四川职业技术学院
A72: 196101010204 | B72: =VLOOKUP(A72,学号下拉数据!A:F,2,0) -> 何天林 | C72: =VLOOKUP(A72,学号下拉数据!A:F,4,0) -> 电子信息工程技术 | D72: =VLOOKUP(A72,学号下拉数据!A:F,5,0) -> 510101 | E72: 电子工程学院 | F72: =VLOOKUP(A72,学号下拉数据!A:F,3,0) -> 19电信2 | G72: =VLOOKUP(A72,学号下拉数据!A:F,6,0) -> 三年 | H72: 2021-2022-2学期 | I72: =VLOOKUP(A72,[1]Sheet0!$C:$J,8,0) -> 操作工 | P72: 否 | S72: =VLOOKUP(A72,[1]Sheet0!$C:$I,7,0) -> 通富微电子有限公司 | T72: =VLOOKUP(A72,[1]Sheet0!$C:$M,11,0) -> 江苏省 | U72: =VLOOKUP(A72,[1]Sheet0!$C:$N,12,0) -> 南通市 | X72: =VLOOKUP(A72,[1]Sheet0!$C:$L,10,0) -> 18962911195 | Y72: =VLOOKUP(A72,[1]Sheet0!$C:$L,9,0) -> 徐津 | AA72: 08252914551 | AB72: 实习责任险 | AD72: 四川职业技术学院
A73: 196101010213 | B73: =VLOOKUP(A73,学号下拉数据!A:F,2,0) -> 李虹雨 | C73: =VLOOKUP(A73,学号下拉数据!A:F,4,0) -> 电子信息工程技术 | D73: =VLOOKUP(A73,学号下拉数据!A:F,5,0) -> 510101 | E73: 电子工程学院 | F73: =VLOOKUP(A73,学号下拉数据!A:F,3,0) -> 19电信2 | G73: =VLOOKUP(A73,学号下拉数据!A:F,6,0) -> 三年 | H73: 2021-2022-2学期 | I73: =VLOOKUP(A73,[1]Sheet0!$C:$J,8,0) -> 设备维护 | P73: 否 | S73: =VLOOKUP(A73,[1]Sheet0!$C:$I,7,0) -> 宜宾丝丽雅股份有限公司 | T73: =VLOOKUP(A73,[1]Sheet0!$C:$M,11,0) -> 四川省 | U73: =VLOOKUP(A73,[1]Sheet0!$C:$N,12,0) -> 宜宾市 | X73: =VLOOKUP(A73,[1]Sheet0!$C:$L,10,0) -> 13608293131 | Y73: =VLOOKUP(A73,[1]Sheet0!$C:$L,9,0) -> 陈彬 | AA73: 08252914551 | AB73: 实习责任险 | AD73: 四川职业技术学院
A74: 196101010207 | B74: =VLOOKUP(A74,学号下拉数据!A:F,2,0) -> 龙江川 | C74: =VLOOKUP(A74,学号下拉数据!A:F,4,0) -> 电子信息工程技术 | D74: =VLOOKUP(A74,学号下拉数据!A:F,5,0) -> 510101 | E74: 电子工程学院 | F74: =VLOOKUP(A74,学号下拉数据!A:F,3,0) -> 19电信2 | G74: =VLOOKUP(A74,学号下拉数据!A:F,6,0) -> 三年 | H74: 2021-2022-2学期 | I74: =VLOOKUP(A74,[1]Sheet0!$C:$J,8,0) -> 包装 | P74: 否 | S74: =VLOOKUP(A74,[1]Sheet0!$C:$I,7,0) -> 重庆海康威视股份有限公司 | T74: =VLOOKUP(A74,[1]Sheet0!$C:$M,11,0) -> 重庆市 | U74: =VLOOKUP(A74,[1]Sheet0!$C:$N,12,0) -> 重庆市 | X74: =VLOOKUP(A74,[1]Sheet0!$C:$L,10,0) -> 15760442685 | Y74: =VLOOKUP(A74,[1]Sheet0!$C:$L,9,0) -> 龙江川 | AA74: 08252914551 | AB74: 实习责任险 | AD74: 四川职业技术学院
A75: 196101010217 | B75: =VLOOKUP(A75,学号下拉数据!A:F,2,0) -> 尹红 | C75: =VLOOKUP(A75,学号下拉数据!A:F,4,0) -> 电子信息工程技术 | D75: =VLOOKUP(A75,学号下拉数据!A:F,5,0) -> 510101 | E75: 电子工程学院 | F75: =VLOOKUP(A75,学号下拉数据!A:F,3,0) -> 19电信2 | G75: =VLOOKUP(A75,学号下拉数据!A:F,6,0) -> 三年 | H75: 2021-2022-2学期 | I75: =VLOOKUP(A75,[1]Sheet0!$C:$J,8,0) -> 操作工 | P75: 否 | S75: =VLOOKUP(A75,[1]Sheet0!$C:$I,7,0) -> 重庆市潼南区卓普电子有限公司 | T75: =VLOOKUP(A75,[1]Sheet0!$C:$M,11,0) -> 重庆市 | U75: =VLOOKUP(A75,[1]Sheet0!$C:$N,12,0) -> 重庆市 | X75: =VLOOKUP(A75,[1]Sheet0!$C:$L,10,0) -> 13012333092 | Y75: =VLOOKUP(A75,[1]Sheet0!$C:$L,9,0) -> 尹小东 | AA75: 08252914551 | AB75: 实习责任险 | AD75: 四川职业技术学院
...

Sheet 学号下拉数据
A1: 学号 | B1: 姓名 | C1: 班级名称（全称） | D1: 专业名称 | E1: 专业代码 | F1: 学制
A2: 12156030102118 | B2: 沈燕波 | C2: 20建筑4 | D2: 建筑工程技术 | E2: 440301 | F2: 三年
A3: 13156050209142 | B3: 王东 | C3: 19工造1 | D3: 工程造价 | E3: 440501 | F3: 三年
A4: 13162020608108 | B4: 骆梦 | C4: 19会计4 | D4: 大数据与会计 | E4: 530302 | F4: 三年
A5: 1458010310308 | B5: 陈建钧 | C5: 19网络1 | D5: 计算机网络技术 | E5: 510202 | F5: 三年
A6: 1459020210113 | B6: 向广川 | C6: 19电技1 | D6: 应用电子技术 | E6: 510103 | F6: 三年
A7: 1466021410923 | B7: 张涛 | C7: 19学前8 | D7: 学前教育 | E7: 570102K | F7: 三年
A8: 1466030310111 | B8: 张富欣 | C8: 19社体 | D8: 社会体育 | E8: 570301 | F8: 三年
A9: 155603010247 | B9: 谢鹏 | C9: 20建筑4 | D9: 建筑工程技术 | E9: 440301 | F9: 三年
A10: 155804010136 | B10: 朱科 | C10: 19建筑1 | D10: 建筑工程技术 | E10: 440301 | F10: 三年
A11: 155902020110 | B11: 康瑜 | C11: 20电技4 | D11: 应用电子技术 | E11: 510103 | F11: 三年
A12: 165405020120 | B12: 方廷 | C12: 19工造1 | D12: 工程造价 | E12: 440501 | F12: 三年
... A15203: 22J5703010112 | B15203: 蒋仕军 | C15203: 22社体J | D15203: 社会体育 | E15203: 570301 | F15203: 三年

Sheet 学制下拉数据
A1: 学制
A2: 二年
A3: 三年
A4: 四年
A5: 五年

Sheet 起始学期下拉数据
A1: 起始学期
A2: 2021-2022-1学期
A3: 2021-2022-2学期

Sheet 实习安排下拉数据
A1: 实习安排
A2: 学校统一安排
A3: 自主联系

Sheet 实习形式下拉数据
A1: 实习形式
A2: 虚拟仿真实习
A3: 校内真实职业场景实习
A4: 校外实习

Sheet 实习企业名称下拉数据
A1: 实习企业名称
A2: 遂宁档案馆
A3: 浙江东菱股份有限公司阳光大酒店
A4: 启迪幼儿园
A5: 四川纵横投资有限责任公司
A6: 紫竹路幼儿园
A7: 四川长虹模塑科技有限公司
A8: 人本集团
A9: 上海灿耀天昂智能科技有限公司
A10: 遂宁市西部华源医药有限公司
A11: 遂宁高级实验中学
A12: 遂宁市大鹏程广告
... A659: 贵州铭欣科技服务有限公司

Sheet 所在省份下拉数据
A1: 所在省份
A2: 北京市
A3: 天津市
A4: 河北省
A5: 山西省
A6: 内蒙古自治区
A7: 辽宁省
A8: 吉林省
A9: 黑龙江省
A10: 上海市
A11: 江苏省
A12: 浙江省
... A35: 澳门特别行政区

Sheet 所在地市下拉数据
A1: 所在地市
A2: 东城区
A3: 西城区
A4: 丰台区
A5: 朝阳区
A6: 石景山区
A7: 海淀区
A8: 通州区
A9: 顺义区
A10: 大兴区
A11: 门头沟区
A12: 房山区
... A476: 澳门特别行政区

Sheet 教师姓名下拉数据
A1: 教师姓名
A2: 谢天贵
A3: 唐继超
A4: 彭波
A5: 黄宗贵
A6: 谢大川
A7: 尹琳
A8: 谢碧琼
A9: 徐滔
A10: 李榕
A11: 田凯
A12: 林均平
... A843: 王玮

Sheet 企业人员姓名下拉数据
A1: 企业人员姓名
A2: 张晓宁
A3: 庞鹭
A4: 刘应和
A5: 张卫
A6: 庞静
A7: 万霞
A8: 唐春梅
A9: 谭春兵
A10: 邹海
A11: 王予
A12: 张诚
... A311: 吴国辉
